BEGIN:VCALENDAR
VERSION:2.0
PRODID:gnpec.georgia.gov
X-WR-TIMEZONE:America/New_York
BEGIN:VTIMEZONE
TZID:America/New_York
X-LIC-LOCATION:America/New_York
END:VTIMEZONE
BEGIN:VEVENT
UID:608a23e5a0cee
DTSTART;TZID=UTC:20190729T170000
SEQUENCE:0
TRANSP:OPAQUE
URL:https://gnpec.georgia.gov/events/2019-07-29/july-2019-commission-meetin
 g
LOCATION:2082 East Exchange Place Suite 220 TUCKER\, GA 30084
SUMMARY:July 2019 Commission Meeting
CLASS:PUBLIC
DTSTAMP:20210428T231133Z
END:VEVENT
END:VCALENDAR