BEGIN:VCALENDAR
VERSION:2.0
PRODID:gnpec.georgia.gov
X-WR-TIMEZONE:America/New_York
BEGIN:VTIMEZONE
TZID:America/New_York
X-LIC-LOCATION:America/New_York
END:VTIMEZONE
BEGIN:VEVENT
UID:6089a8ecbab5e
DTSTART;TZID=UTC:20200420T170000
SEQUENCE:0
TRANSP:OPAQUE
DTEND;TZID=UTC:20200420T190000
URL:https://gnpec.georgia.gov/events/2020-04-20/commission-meeting
SUMMARY:Commission Meeting
CLASS:PUBLIC
DTSTAMP:20210428T142652Z
END:VEVENT
END:VCALENDAR