BEGIN:VCALENDAR
PRODID:gnpec.georgia.gov
VERSION:2.0
CALSCALE:GREGORIAN
BEGIN:VEVENT
UID:ada7d8661be357ef82cf20b1cf4d199a
DTSTAMP:20260425T023821Z
SUMMARY:Commission Meeting
URL:https://gnpec.georgia.gov/events/2020-07-27/commission-meeting
DTSTART;VALUE=DATE:20200727
DTEND;VALUE=DATE:20200728
X-LIC-LOCATION:America/New_York
X-WR-TIMEZONE:America/New_York
END:VEVENT
BEGIN:VTIMEZONE
TZID:America/New_York
END:VTIMEZONE
END:VCALENDAR
