BEGIN:VCALENDAR
VERSION:2.0
PRODID:gnpec.georgia.gov
X-WR-TIMEZONE:America/New_York
BEGIN:VTIMEZONE
TZID:America/New_York
X-LIC-LOCATION:America/New_York
END:VTIMEZONE
BEGIN:VEVENT
UID:6144fd466be65
DTSTART;TZID=UTC:20201026T170000
SEQUENCE:0
TRANSP:OPAQUE
DTEND;TZID=UTC:20201026T190000
URL:https://gnpec.georgia.gov/events/2020-10-26/annual-commission-meeting
SUMMARY:Annual Commission Meeting
CLASS:PUBLIC
DTSTAMP:20210917T164038Z
END:VEVENT
END:VCALENDAR