BEGIN:VCALENDAR
PRODID:gnpec.georgia.gov
VERSION:2.0
CALSCALE:GREGORIAN
BEGIN:VEVENT
UID:d0954c67aabf6a901aecae41ccd9e259
DTSTAMP:20260425T004818Z
SUMMARY:Special Called Commission Meeting
DESCRIPTION:PUBLIC CALL-IN INSTRUCTIONS:\n\n\n\n\n(646) 558-8656     
                          \n\n\n\nMeeting ID:  83
 8 0827 7958                      \n\n\n\nPassword: 3
 54332
URL:https://gnpec.georgia.gov/events/2020-08-18/special-called-commission-m
 eeting
DTSTART;VALUE=DATE:20200818
DTEND;VALUE=DATE:20200819
X-LIC-LOCATION:America/New_York
X-WR-TIMEZONE:America/New_York
END:VEVENT
BEGIN:VTIMEZONE
TZID:America/New_York
END:VTIMEZONE
END:VCALENDAR
