BEGIN:VCALENDAR
VERSION:2.0
PRODID:gnpec.georgia.gov
X-WR-TIMEZONE:America/New_York
BEGIN:VTIMEZONE
TZID:America/New_York
X-LIC-LOCATION:America/New_York
END:VTIMEZONE
BEGIN:VEVENT
UID:6144fd3987c70
DTSTART;TZID=UTC:20210125T180000
SEQUENCE:0
TRANSP:OPAQUE
DTEND;TZID=UTC:20210125T200000
URL:https://gnpec.georgia.gov/events/2021-01-25/january-25-2021-commission-
 meeting
SUMMARY:January 25\, 2021 Commission Meeting
CLASS:PUBLIC
DTSTAMP:20210917T164025Z
END:VEVENT
END:VCALENDAR