BEGIN:VCALENDAR
VERSION:2.0
PRODID:gnpec.georgia.gov
X-WR-TIMEZONE:America/New_York
BEGIN:VTIMEZONE
TZID:America/New_York
X-LIC-LOCATION:America/New_York
END:VTIMEZONE
BEGIN:VEVENT
UID:6144fd326c6ab
DTSTART;TZID=UTC:20210426T170000
SEQUENCE:0
TRANSP:OPAQUE
DTEND;TZID=UTC:20210426T190000
URL:https://gnpec.georgia.gov/events/2021-04-26/april-2021-commission-meeti
 ng
SUMMARY:April 2021 Commission Meeting
CLASS:PUBLIC
DTSTAMP:20210917T164018Z
END:VEVENT
END:VCALENDAR