BEGIN:VCALENDAR
PRODID:gnpec.georgia.gov
VERSION:2.0
CALSCALE:GREGORIAN
BEGIN:VEVENT
UID:dae74a7c8c25eb89558e5d6c3b88f62f
DTSTAMP:20260425T013024Z
SUMMARY:October 2021 Commission Meeting
DESCRIPTION:Public Call-In Instructions:\n\n\n\nDial-in Number: (646) 558-8
 656\n\n\n\nMeeting ID: 859 0360 4241\n\n\n\nPasscode: 407854
URL:https://gnpec.georgia.gov/events/2021-10-25/october-2021-commission-mee
 ting
DTSTART;VALUE=DATE:20211025
DTEND;VALUE=DATE:20211026
LOCATION:3145 Washington Road  Augusta\, GA 30907 US
X-LIC-LOCATION:America/New_York
X-WR-TIMEZONE:America/New_York
END:VEVENT
BEGIN:VTIMEZONE
TZID:America/New_York
END:VTIMEZONE
END:VCALENDAR
