BEGIN:VCALENDAR
VERSION:2.0
PRODID:gnpec.georgia.gov
X-WR-TIMEZONE:America/New_York
BEGIN:VTIMEZONE
TZID:America/New_York
X-LIC-LOCATION:America/New_York
END:VTIMEZONE
BEGIN:VEVENT
UID:6144fd401a35a
DTSTART;TZID=UTC:20201215T180000
SEQUENCE:0
TRANSP:OPAQUE
URL:https://gnpec.georgia.gov/events/2020-12-15/special-called-commission-m
 eeting
SUMMARY:Special Called Commission Meeting
CLASS:PUBLIC
DESCRIPTION:Dial-in Number: (646) 558-8656\n\n\n\nMeeting ID: 885 0447 5311
 \n\n\n\nPasscode: 949858
DTSTAMP:20210917T164032Z
END:VEVENT
END:VCALENDAR